BEGIN:VCALENDAR
VERSION:2.0
PRODID:-//Cognitive Therapy in the San Francisco Bay Area - ECPv6.15.20//NONSGML v1.0//EN
CALSCALE:GREGORIAN
METHOD:PUBLISH
X-ORIGINAL-URL:https://sfbacct.com
X-WR-CALDESC:Events for Cognitive Therapy in the San Francisco Bay Area
REFRESH-INTERVAL;VALUE=DURATION:PT1H
X-Robots-Tag:noindex
X-PUBLISHED-TTL:PT1H
BEGIN:VTIMEZONE
TZID:America/Los_Angeles
BEGIN:DAYLIGHT
TZOFFSETFROM:-0800
TZOFFSETTO:-0700
TZNAME:PDT
DTSTART:20230312T100000
END:DAYLIGHT
BEGIN:STANDARD
TZOFFSETFROM:-0700
TZOFFSETTO:-0800
TZNAME:PST
DTSTART:20231105T090000
END:STANDARD
BEGIN:DAYLIGHT
TZOFFSETFROM:-0800
TZOFFSETTO:-0700
TZNAME:PDT
DTSTART:20240310T100000
END:DAYLIGHT
BEGIN:STANDARD
TZOFFSETFROM:-0700
TZOFFSETTO:-0800
TZNAME:PST
DTSTART:20241103T090000
END:STANDARD
BEGIN:DAYLIGHT
TZOFFSETFROM:-0800
TZOFFSETTO:-0700
TZNAME:PDT
DTSTART:20250309T100000
END:DAYLIGHT
BEGIN:STANDARD
TZOFFSETFROM:-0700
TZOFFSETTO:-0800
TZNAME:PST
DTSTART:20251102T090000
END:STANDARD
END:VTIMEZONE
BEGIN:VEVENT
DTSTART;TZID=America/Los_Angeles:20240319T183000
DTEND;TZID=America/Los_Angeles:20240319T203000
DTSTAMP:20260420T004818
CREATED:20240214T051827Z
LAST-MODIFIED:20240214T052731Z
UID:10000231-1710873000-1710880200@sfbacct.com
SUMMARY:Helping Your Child Manage Excessive Performance Anxiety
DESCRIPTION:School-aged children and adolescents are frequently faced with situations where they are being asked to perform either formally or informally\, including tests\, sports\, recitals\, interviews\, school presentations\, and social events. \nSome children and adolescents experience such intense performance anxiety that it hinders their ability to succeed in the classroom\, on the stage or playing field\, and in their personal lives. \nPsychologist and bestselling author Michael Tompkins\, PhD\, ABPP will share the factors that contribute to excessive performance anxiety and what parents can do to help their children manage anxiety. \nTompkins will also talk about how parents can recognize when excessive performance anxiety may reflect an underlying problem and the type of therapeutic support that can help. \nAttend online or in-person \nIn-person registration includes a copy of Tompkin’s book\, Stress Less: A Teen’s Guide to a Calm Chill Life\, which Tompkins will sign following the discussion.
URL:https://sfbacct.com/event/helping-your-child-manage-excessive-performance-anxiety/
LOCATION:Leiya – Berkeley Location\, 2999 Regent Street\, Berkeley\, CA\, 94705\, United States
CATEGORIES:Professional Training,Workshops / Seminars
ATTACH;FMTTYPE=image/jpeg:https://sfbacct.com/wp-content/uploads/2024/02/Headshot-Tompkins-887x900-1.jpg
END:VEVENT
END:VCALENDAR