BEGIN:VCALENDAR
VERSION:2.0
PRODID:-//Cognitive Therapy in the San Francisco Bay Area - ECPv6.15.20//NONSGML v1.0//EN
CALSCALE:GREGORIAN
METHOD:PUBLISH
X-ORIGINAL-URL:https://sfbacct.com
X-WR-CALDESC:Events for Cognitive Therapy in the San Francisco Bay Area
REFRESH-INTERVAL;VALUE=DURATION:PT1H
X-Robots-Tag:noindex
X-PUBLISHED-TTL:PT1H
BEGIN:VTIMEZONE
TZID:America/Los_Angeles
BEGIN:DAYLIGHT
TZOFFSETFROM:-0800
TZOFFSETTO:-0700
TZNAME:PDT
DTSTART:20200308T100000
END:DAYLIGHT
BEGIN:STANDARD
TZOFFSETFROM:-0700
TZOFFSETTO:-0800
TZNAME:PST
DTSTART:20201101T090000
END:STANDARD
BEGIN:DAYLIGHT
TZOFFSETFROM:-0800
TZOFFSETTO:-0700
TZNAME:PDT
DTSTART:20210314T100000
END:DAYLIGHT
BEGIN:STANDARD
TZOFFSETFROM:-0700
TZOFFSETTO:-0800
TZNAME:PST
DTSTART:20211107T090000
END:STANDARD
BEGIN:DAYLIGHT
TZOFFSETFROM:-0800
TZOFFSETTO:-0700
TZNAME:PDT
DTSTART:20220313T100000
END:DAYLIGHT
BEGIN:STANDARD
TZOFFSETFROM:-0700
TZOFFSETTO:-0800
TZNAME:PST
DTSTART:20221106T090000
END:STANDARD
BEGIN:DAYLIGHT
TZOFFSETFROM:-0800
TZOFFSETTO:-0700
TZNAME:PDT
DTSTART:20230312T100000
END:DAYLIGHT
BEGIN:STANDARD
TZOFFSETFROM:-0700
TZOFFSETTO:-0800
TZNAME:PST
DTSTART:20231105T090000
END:STANDARD
END:VTIMEZONE
BEGIN:VEVENT
DTSTART;TZID=America/Los_Angeles:20220611T093000
DTEND;TZID=America/Los_Angeles:20220611T120000
DTSTAMP:20260420T004818
CREATED:20220601T052259Z
LAST-MODIFIED:20220601T055035Z
UID:10000001-1654939800-1654948800@sfbacct.com
SUMMARY:One Million Steps for OCD Walk
DESCRIPTION:Taking steps towards increased awareness for OCD and related disorders. \nPlease join us at the annual OCD walk\, sponsored by OCD SF Bay Area\, where Joan Davidson serves on the Board of Directors. \nThe One Million Steps for OCD Walk provides a supportive community\, increases awareness\, and raises funds for the IOCDF and its Local Affiliates\, enabling them to continue their mission \nOCD Walks are free to attend!\nWalkers who donate or fundraise $25 or more will receive a Walk t-shirt. \nRegister to walk with us on June 11th! Or make a donation to an individual fundraiser\, walk team\, or the overall event. \nI hope to see you there! – Joan Davidson\, Ph.D.
URL:https://sfbacct.com/event/27767/
LOCATION:Lake Merrit\, Oakland\, 666 Bellevue Ave\, Oakland\, CA\, 94610\, United States
CATEGORIES:Community Events
ATTACH;FMTTYPE=image/png:https://sfbacct.com/wp-content/uploads/2022/05/ocd.png
END:VEVENT
BEGIN:VEVENT
DTSTART;VALUE=DATE:20220317
DTEND;VALUE=DATE:20220318
DTSTAMP:20260420T004818
CREATED:20220215T052055Z
LAST-MODIFIED:20220215T053138Z
UID:10000034-1647475200-1647561599@sfbacct.com
SUMMARY:The Role of Cognitive & Emotional Schemas in Transdiagnostic Formulations for Anxiety & OCD
DESCRIPTION:Join more than 1\,000 clinicians and researchers from across the US and around the world for vibrant programming\, impactful connections with peers\, and access to exhibitors and sponsors all while enjoying the beauty and excitement of Denver. \nJoan Davidson will present a workshop with Rochelle Frank\, Ph.D.\, “The Role of Cognitive and Emotional Schemas in Transdiagnostic Formulations for Anxiety and OCD: Possible Make-or-Break Factors When Implementing Treatment” at the Anxiety and Depression Association of America (ADAA) Annual Conference\, March 17-20\, 2022\, in Denver\, CO. \nWhen targeting specific transdiagnostic mechanisms in anxiety and OCD treatments (e.g.\, intolerance of uncertainty\, perfectionism\, anxiety sensitivity\, and others)\, more pervasive psychological processes affecting readiness to engage in acceptance- and exposure-based interventions can be overlooked. \nThis workshop addresses the role of cognitive and emotional schemas\, along with negative life events (e.g.\, trauma\, social injustices\, histories of increased vulnerability) when formulating hypotheses about resistance to treatment engagement. \nADAA’s annual conference offers an ALL-INCLUSIVE fee\, including CE/CME credit for all professional level registrations\, for the entire 4-day event. There are no add-on or a la carte fees. Full access includes: \n\nAdmission to all sessions\, posters\, and conference activities\nNew for 2022! All professional-level registrations include CE/CME credit. More information on the maximum number of credits will be available soon\nBreakfast on Friday\, Saturday\, and Sunday; daily morning and afternoon refreshment breaks\nKeynote Address and other special sessions (Ross Lecture\, Scientific Research Symposium\, Clinical Practice Symposium)\nWelcome Reception on Thursday\, March 17\nPoster Hall and Awards Ceremony on Saturday\, March 19
URL:https://sfbacct.com/event/the-role-of-cognitive-emotional-schemas-in-transdiagnostic-formulations-for-anxiety-ocd/
LOCATION:Sheraton Denver Downtown Hotel – Denver\, 1550 Court Place\, Denver\, CO\, 80202\, United States
CATEGORIES:Professional Training,Workshops / Seminars
ATTACH;FMTTYPE=image/png:https://sfbacct.com/wp-content/uploads/2022/02/adaa2.png
END:VEVENT
BEGIN:VEVENT
DTSTART;VALUE=DATE:20211118
DTEND;VALUE=DATE:20211122
DTSTAMP:20260420T004818
CREATED:20210815T015017Z
LAST-MODIFIED:20210815T022243Z
UID:10000002-1637193600-1637539199@sfbacct.com
SUMMARY:Association for Behavioral and Cognitive Therapies (ABCT)
DESCRIPTION:Experience New Orleans!\n\n\n\n\n2021 ABCT Annual Convention\nPromoting Cognitive and Behavioral Practice and Science in the Context of Public Health\, Social Justice\, Policy\, Research\, Practice\, and Training. \n\n\n\nJoan Davidson and Rochelle Frank will present a workshop\, “What to do When Therapy Isn’t Working: A Transdiagnostic Model for Assessing Progress\, Changing Course\, and Improving Outcomes in the Treatment of Anxiety and Related Problems” \nAs well as a mini-workshop\, “The New Normal: Coping with Uncertainty and Mitigating Anxiety in an Age of ‘Unprecedented’ Local\, National\, and Global Challenges and Crises” \nAssociation for Behavioral and Cognitive Therapies (ABCT) conference in New Orleans
URL:https://sfbacct.com/event/association-for-behavioral-and-cognitive-therapies-abct/
LOCATION:Online (Virtual)
CATEGORIES:Professional Training,Workshops / Seminars
ATTACH;FMTTYPE=image/jpeg:https://sfbacct.com/wp-content/uploads/2021/08/new-site-NOLA-600x400-1.jpg
END:VEVENT
BEGIN:VEVENT
DTSTART;TZID=America/Los_Angeles:20211009T124600
DTEND;TZID=America/Los_Angeles:20211009T140000
DTSTAMP:20260420T004818
CREATED:20210815T011233Z
LAST-MODIFIED:20210815T020134Z
UID:10000003-1633783560-1633788000@sfbacct.com
SUMMARY:Mistakes\, Failures\, and Interminable Cases: Lessons Learned in the Real World
DESCRIPTION:Organized by the International OCD Foundation (IOCDF)\, Joan Davidson\, C. Alec Pollard\, and Sally Winston will present a workshop\, “Mistakes\, Failures\, and Interminable Cases: Lessons Learned in the Real World” at the International OCD Foundation (IOCDF) virtual conference \nThe Online OCD Conference is the largest national conference dedicated to obsessive-compulsive disorder. This three-day event\, hosted by the International OCD Foundation (IOCDF)\, features programming for the entire OCD community: individuals with lived experience\, family members and supporters\, researchers\, and mental health professionals. \nThis year’s conference will take place virtually and includes more than 200 presenters\, 70 talks\, and 36 discussion groups. \nSessions will be available on-demand for four weeks after the conclusion of the conference. \n  \n 
URL:https://sfbacct.com/event/mistakes-failures-and-interminable-cases-lessons-learned-in-the-real-world/
LOCATION:Online (Virtual)
CATEGORIES:Professional Training,Workshops / Seminars
ATTACH;FMTTYPE=image/jpeg:https://sfbacct.com/wp-content/uploads/2021/08/asdasdasd.jpg
END:VEVENT
END:VCALENDAR